BEGIN:VCALENDAR
VERSION:2.0
PRODID:-//Re-defining Quality - ECPv6.13.2.1//NONSGML v1.0//EN
CALSCALE:GREGORIAN
METHOD:PUBLISH
X-ORIGINAL-URL:https://isixlogistics.co.bw
X-WR-CALDESC:Events for Re-defining Quality
REFRESH-INTERVAL;VALUE=DURATION:PT1H
X-Robots-Tag:noindex
X-PUBLISHED-TTL:PT1H
BEGIN:VTIMEZONE
TZID:Africa/Gaborone
BEGIN:STANDARD
TZOFFSETFROM:+0200
TZOFFSETTO:+0200
TZNAME:CAT
DTSTART:20190101T000000
END:STANDARD
END:VTIMEZONE
BEGIN:VTIMEZONE
TZID:UTC
BEGIN:STANDARD
TZOFFSETFROM:+0000
TZOFFSETTO:+0000
TZNAME:UTC
DTSTART:20190101T000000
END:STANDARD
END:VTIMEZONE
BEGIN:VEVENT
DTSTART;VALUE=DATE:20191212
DTEND;VALUE=DATE:20191216
DTSTAMP:20260423T210024
CREATED:20190916T225856Z
LAST-MODIFIED:20190925T104139Z
UID:3060-1576108800-1576454399@isixlogistics.co.bw
SUMMARY:Retreat
DESCRIPTION:Our Retreat runs for a week. It offers fitness\, nutrition and wellness
URL:https://isixlogistics.co.bw/event/retreat/
LOCATION:Lion Park Resort\, Plot No. 15-KO Lion Park Portion 184 of Portion 12 Crocodile Pools\, Gaborone\, South East\, 00000\, Botswana
END:VEVENT
BEGIN:VEVENT
DTSTART;TZID=UTC:20190630T080000
DTEND;TZID=UTC:20190630T170000
DTSTAMP:20260423T210024
CREATED:20181213T122905Z
LAST-MODIFIED:20190612T162445Z
UID:2327-1561881600-1561914000@isixlogistics.co.bw
SUMMARY:Thanks Giving Day
DESCRIPTION:We take this opportunity to thank you all who have contributed to our growth
URL:https://isixlogistics.co.bw/event/thanks-giving-day/
LOCATION:Isix Logistics\, Gaborone\, Gaborone\, Botswana
END:VEVENT
BEGIN:VEVENT
DTSTART;VALUE=DATE:20190623
DTEND;VALUE=DATE:20190624
DTSTAMP:20260423T210024
CREATED:20190612T162640Z
LAST-MODIFIED:20190612T162640Z
UID:2326-1561248000-1561334399@isixlogistics.co.bw
SUMMARY:Party
DESCRIPTION:We
URL:https://isixlogistics.co.bw/event/party/
LOCATION:South East
END:VEVENT
BEGIN:VEVENT
DTSTART;VALUE=DATE:20190619
DTEND;VALUE=DATE:20190620
DTSTAMP:20260423T210024
CREATED:20181213T121511Z
LAST-MODIFIED:20190612T162551Z
UID:2320-1560902400-1560988799@isixlogistics.co.bw
SUMMARY:Bica Trainning
DESCRIPTION:We will be holding a BICA trainning at our school premises
URL:https://isixlogistics.co.bw/event/bica-trainning/
LOCATION:BAC\, Fairgrounds\, GAborone\, Botswana
END:VEVENT
END:VCALENDAR